BEGIN:VCALENDAR
PRODID:-//kirchenweb.ch gmbh//veranstaltungsausgabe v2.0//DE
VERSION:2.0
METHOD:PUBLISH
BEGIN:VEVENT
DTSTART:20260610T100000Z
DTEND:20260610T113000Z
LOCATION:Büchsenschmitte\, Schulhausstrasse 40\, 8704 Herrliberg
TRANSP:OPAQUE
SEQUENCE:0
UID:19350-veranstaltung@ref-herrliberg.ch
DTSTAMP:20241030T133706Z
DESCRIPTION:Kontakt: Susanne Schnitzler\, 079 773 05 00\, \n\nWeitere
  Infos: https://www.ref-herrliberg.ch/veranstaltung/19350
SUMMARY:Minichile + 3. Klass-Unti Herrliberg
PRIORITY:5
X-MICROSOFT-CDO-IMPORTANCE:1
CLASS:PUBLIC
END:VEVENT
END:VCALENDAR
