BEGIN:VCALENDAR
PRODID:-//kirchenweb.ch gmbh//veranstaltungsausgabe v2.0//DE
VERSION:2.0
METHOD:PUBLISH
BEGIN:VEVENT
DTSTART:20260607T083000Z
DTEND:20260607T093000Z
LOCATION:Kirche Tal Herrliberg\, Kirchenrank 1\, 8704 Herrliberg
TRANSP:OPAQUE
SEQUENCE:0
UID:19873-veranstaltung@ref-herrliberg.ch
DTSTAMP:20260331T073433Z
DESCRIPTION:Kontakt: Pfrn. Claudia Steinemann\, 077 265 76 42\, \n
 \nWeitere Infos: https://www.ref-herrliberg.ch/veranstaltung/19873
SUMMARY:Konfirmationsgottesdienst
PRIORITY:5
X-MICROSOFT-CDO-IMPORTANCE:1
CLASS:PUBLIC
END:VEVENT
END:VCALENDAR
