BEGIN:VCALENDAR
PRODID:-//kirchenweb.ch gmbh//veranstaltungsausgabe v2.0//DE
VERSION:2.0
METHOD:PUBLISH
BEGIN:VEVENT
DTSTART:20260613T150000Z
DTEND:20260613T160000Z
LOCATION:Ref. Kirche Erlenbach\, Seestrasse 86a\, 8703 Erlenbach
TRANSP:OPAQUE
SEQUENCE:0
UID:19976-veranstaltung@ref-herrliberg.ch
DTSTAMP:20251016T112022Z
DESCRIPTION:Kontakt: Pfr. Alexander Heit\, 044 915 28 14 \n\nWeitere
  Infos: https://www.ref-herrliberg.ch/veranstaltung/19976
SUMMARY:Familiengottesdienst "Iilüüte"
PRIORITY:5
X-MICROSOFT-CDO-IMPORTANCE:1
CLASS:PUBLIC
END:VEVENT
END:VCALENDAR
