BEGIN:VCALENDAR
PRODID:-//kirchenweb.ch gmbh//veranstaltungsausgabe v2.0//DE
VERSION:2.0
METHOD:PUBLISH
BEGIN:VEVENT
DTSTART:20260505T153000Z
DTEND:20260505T170000Z
LOCATION:Kirchgemeindehaus Erlenbach\, Schulhausstrasse 40\, 8703
  Erlenbach
TRANSP:OPAQUE
SEQUENCE:0
UID:20257-veranstaltung@ref-herrliberg.ch
DTSTAMP:20250515T080050Z
DESCRIPTION:Kontakt: Nicole Flückiger\, 079 808 90 11 \n\nWeitere Infos:
  https://www.ref-herrliberg.ch/veranstaltung/20257
SUMMARY:Konfirmandenunterricht Erlenbach und Herrliberg
PRIORITY:5
X-MICROSOFT-CDO-IMPORTANCE:1
CLASS:PUBLIC
END:VEVENT
END:VCALENDAR
