BEGIN:VCALENDAR
PRODID:-//kirchenweb.ch gmbh//veranstaltungsausgabe v2.0//DE
VERSION:2.0
METHOD:PUBLISH
BEGIN:VEVENT
DTSTART:20260621T093000Z
DTEND:20260621T103000Z
LOCATION:Kirche Tal Herrliberg\, Kirchenrank 1\, 8704 Herrliberg
TRANSP:OPAQUE
SEQUENCE:0
UID:20332-veranstaltung@ref-herrliberg.ch
DTSTAMP:20250624T082219Z
DESCRIPTION:Kontakt: Marly Straub\, 044 915 08 24 \n\nWeitere Infos:
  https://www.ref-herrliberg.ch/veranstaltung/20332
SUMMARY:Ordentliche Kirchgemeindeversammlung
PRIORITY:5
X-MICROSOFT-CDO-IMPORTANCE:1
CLASS:PUBLIC
END:VEVENT
END:VCALENDAR
