BEGIN:VCALENDAR
PRODID:-//kirchenweb.ch gmbh//veranstaltungsausgabe v2.0//DE
VERSION:2.0
METHOD:PUBLISH
BEGIN:VEVENT
DTSTART:20260514T083000Z
DTEND:20260514T093000Z
LOCATION:Kirche Tal Herrliberg\, \,
TRANSP:OPAQUE
SEQUENCE:0
UID:20449-veranstaltung@ref-herrliberg.ch
DTSTAMP:20260416T105723Z
DESCRIPTION:mit Abendmahl\n\nKontakt: Pfr. Alexander Heit\, 044 915 28 14 
 \nPfr. Anders Stokholm\, 079 574 05 30 \n\nWeitere Infos:
  https://www.ref-herrliberg.ch/veranstaltung/20449
SUMMARY:Auffahrt-Gottesdienst
PRIORITY:5
X-MICROSOFT-CDO-IMPORTANCE:1
CLASS:PUBLIC
END:VEVENT
END:VCALENDAR
