BEGIN:VCALENDAR
PRODID:-//kirchenweb.ch gmbh//veranstaltungsausgabe v2.0//DE
VERSION:2.0
METHOD:PUBLISH
BEGIN:VEVENT
DTSTART:20260709T133000Z
DTEND:20260709T153000Z
LOCATION:Büchsenschmitte\, Schulhausstrasse 40\, 8704 Herrliberg
TRANSP:OPAQUE
SEQUENCE:0
UID:20517-veranstaltung@ref-herrliberg.ch
DTSTAMP:20250826T091837Z
DESCRIPTION:Kontakt: Magdalen Moser\, 044 915 15 57\, \n\nWeitere Infos:
  https://www.ref-herrliberg.ch/veranstaltung/20517
SUMMARY:Trauercafé
PRIORITY:5
X-MICROSOFT-CDO-IMPORTANCE:1
CLASS:PUBLIC
END:VEVENT
END:VCALENDAR
