BEGIN:VCALENDAR
PRODID:-//kirchenweb.ch gmbh//veranstaltungsausgabe v2.0//DE
VERSION:2.0
METHOD:PUBLISH
BEGIN:VEVENT
DTSTART:20260529T150000Z
DTEND:20260529T180000Z
LOCATION:Kirchenhügel\, \,
TRANSP:OPAQUE
SEQUENCE:0
UID:20563-veranstaltung@ref-herrliberg.ch
DTSTAMP:20250904T094516Z
DESCRIPTION:Begegnungsort für Menschen aus aller Welt\n\njeder letzte
  Freitag im Monat ab 17 - 20 Uhr im Kirchenhügel\, Herrliberg\n
 \nGEMEINSAM UND UNVERBINDLICH - EIN HERZLICH WILLKOMMEN\n\nKontakt: Claire
  Schärer\, 044 915 55 71\nMagdalen Moser\, 044 915 15 57\, \n\nWeitere
  Infos: https://www.ref-herrliberg.ch/veranstaltung/20563
SUMMARY:TREFF •  Fiirabig-Apéro
PRIORITY:5
X-MICROSOFT-CDO-IMPORTANCE:1
CLASS:PUBLIC
END:VEVENT
END:VCALENDAR
