BEGIN:VCALENDAR
PRODID:-//kirchenweb.ch gmbh//veranstaltungsausgabe v2.0//DE
VERSION:2.0
METHOD:PUBLISH
BEGIN:VEVENT
DTSTART:20260612T173000Z
DTEND:20260612T183000Z
LOCATION:Kirche Tal Herrliberg\, Kirchenrank 1\, 8704 Herrliberg
TRANSP:OPAQUE
SEQUENCE:0
UID:20579-veranstaltung@ref-herrliberg.ch
DTSTAMP:20260409T085935Z
DESCRIPTION:Benefizkonzert\n\nKontakt: Alberto Gaspardo\, +39 3409328804 
 \n\nWeitere Infos: https://www.ref-herrliberg.ch/veranstaltung/20579
SUMMARY:Benefizkonzert
PRIORITY:5
X-MICROSOFT-CDO-IMPORTANCE:1
CLASS:PUBLIC
END:VEVENT
END:VCALENDAR
