BEGIN:VCALENDAR
PRODID:-//kirchenweb.ch gmbh//veranstaltungsausgabe v2.0//DE
VERSION:2.0
METHOD:PUBLISH
BEGIN:VEVENT
DTSTART:20260620T160000Z
DTEND:20260620T170000Z
LOCATION:Kirche Tal\, \,
TRANSP:OPAQUE
SEQUENCE:0
UID:20580-veranstaltung@ref-herrliberg.ch
DTSTAMP:20250923T100925Z
DESCRIPTION:Konzert \n\nKollekte zur Deckung der Unkosten\n\nProgramm:
 \nJean Sibelius : Finlandia\, op. 26\nClaude Debussy : Prélude à
  l’après-midi d’un faune\nJohannes Brahms: Sinfonie Nr. 2\, D-Dur op.
  73\n\nKontakt: Christoph Haas\n\nWeitere Infos:
  https://www.ref-herrliberg.ch/veranstaltung/20580
SUMMARY:Konzert Tal Nota Bene
PRIORITY:5
X-MICROSOFT-CDO-IMPORTANCE:1
CLASS:PUBLIC
END:VEVENT
END:VCALENDAR
