BEGIN:VCALENDAR
PRODID:-//kirchenweb.ch gmbh//veranstaltungsausgabe v2.0//DE
VERSION:2.0
METHOD:PUBLISH
BEGIN:VEVENT
DTSTART:20260503T083000Z
DTEND:20260503T093000Z
LOCATION:Kirche Wetzwil\, Lindenstrasse 104\, 8704 Herrliberg
TRANSP:OPAQUE
SEQUENCE:0
UID:20671-veranstaltung@ref-herrliberg.ch
DTSTAMP:20260421T090446Z
DESCRIPTION:Kontakt: Pfrn. Claudia Steinemann\, 077 265 76 42 \n\nWeitere
  Infos: https://www.ref-herrliberg.ch/veranstaltung/20671
SUMMARY:Gottesdienst in Wetzwil
PRIORITY:5
X-MICROSOFT-CDO-IMPORTANCE:1
CLASS:PUBLIC
END:VEVENT
END:VCALENDAR
