BEGIN:VCALENDAR
PRODID:-//kirchenweb.ch gmbh//veranstaltungsausgabe v2.0//DE
VERSION:2.0
METHOD:PUBLISH
BEGIN:VEVENT
DTSTART:20260913T083000Z
DTEND:20260913T093000Z
LOCATION:Kirche Wetzwil\, Lindenstrasse 104\, 8704 Herrliberg
TRANSP:OPAQUE
SEQUENCE:0
UID:20678-veranstaltung@ref-herrliberg.ch
DTSTAMP:20260226T083400Z
DESCRIPTION:Kontakt: Pfr. Alexander Heit\, 044 915 28 14 \n\nWeitere
  Infos: https://www.ref-herrliberg.ch/veranstaltung/20678
SUMMARY:Gottesdienst in Wetzwil
PRIORITY:5
X-MICROSOFT-CDO-IMPORTANCE:1
CLASS:PUBLIC
END:VEVENT
END:VCALENDAR
