BEGIN:VCALENDAR
PRODID:-//kirchenweb.ch gmbh//veranstaltungsausgabe v2.0//DE
VERSION:2.0
METHOD:PUBLISH
BEGIN:VEVENT
DTSTART:20260705T083000Z
DTEND:20260705T093000Z
LOCATION:Kirche Tal Herrliberg\, Kirchenrank 1\, 8704 Herrliberg
TRANSP:OPAQUE
SEQUENCE:0
UID:20680-veranstaltung@ref-herrliberg.ch
DTSTAMP:20260414T071606Z
DESCRIPTION:Kontakt: Pfr. Alexander Heit\, 044 915 28 14 \n\nWeitere
  Infos: https://www.ref-herrliberg.ch/veranstaltung/20680
SUMMARY:Schlechtwettervariante: Gottesdienst
PRIORITY:5
X-MICROSOFT-CDO-IMPORTANCE:1
CLASS:PUBLIC
END:VEVENT
END:VCALENDAR
