BEGIN:VCALENDAR
PRODID:-//kirchenweb.ch gmbh//veranstaltungsausgabe v2.0//DE
VERSION:2.0
METHOD:PUBLISH
BEGIN:VEVENT
DTSTART:20260712T083000Z
DTEND:20260712T093000Z
LOCATION:Ref. Kirche Zollikon\, Rösslirain 2\, 8702 Zollikon
TRANSP:OPAQUE
SEQUENCE:0
UID:20681-veranstaltung@ref-herrliberg.ch
DTSTAMP:20251016T113419Z
DESCRIPTION:Kontakt: stefanie.cherreck@ref-herrliberg.ch\n\nWeitere Infos:
  https://www.ref-herrliberg.ch/veranstaltung/20681
SUMMARY:Sommerkirche in Zollikon
PRIORITY:5
X-MICROSOFT-CDO-IMPORTANCE:1
CLASS:PUBLIC
END:VEVENT
END:VCALENDAR
