BEGIN:VCALENDAR
PRODID:-//kirchenweb.ch gmbh//veranstaltungsausgabe v2.0//DE
VERSION:2.0
METHOD:PUBLISH
BEGIN:VEVENT
DTSTART:20260726T083000Z
DTEND:20260726T093000Z
LOCATION:Ref. Kirche Erlenbach\, Seestrasse 86a\, 8703 Erlenbach
TRANSP:OPAQUE
SEQUENCE:0
UID:20683-veranstaltung@ref-herrliberg.ch
DTSTAMP:20251016T113709Z
DESCRIPTION:Kontakt: stefanie.cherreck@ref-herrliberg.ch\n\nWeitere Infos:
  https://www.ref-herrliberg.ch/veranstaltung/20683
SUMMARY:Gottesdienst in Erlenbach
PRIORITY:5
X-MICROSOFT-CDO-IMPORTANCE:1
CLASS:PUBLIC
END:VEVENT
END:VCALENDAR
