BEGIN:VCALENDAR
PRODID:-//kirchenweb.ch gmbh//veranstaltungsausgabe v2.0//DE
VERSION:2.0
METHOD:PUBLISH
BEGIN:VEVENT
DTSTART:20260604T100000Z
DTEND:20260604T120000Z
LOCATION:Senevita Im Rebberg\, Schulhausstrasse 44\, 8704 Herrliberg
TRANSP:OPAQUE
SEQUENCE:0
UID:20702-veranstaltung@ref-herrliberg.ch
DTSTAMP:20251017T090922Z
DESCRIPTION:Anmeldung Mittagstisch:\n043 277 54 00\n\nKontakt: Triangel\n
 \nWeitere Infos: https://www.ref-herrliberg.ch/veranstaltung/20702
SUMMARY:Senioren-Mittagstisch
PRIORITY:5
X-MICROSOFT-CDO-IMPORTANCE:1
CLASS:PUBLIC
END:VEVENT
END:VCALENDAR
