BEGIN:VCALENDAR
PRODID:-//kirchenweb.ch gmbh//veranstaltungsausgabe v2.0//DE
VERSION:2.0
METHOD:PUBLISH
BEGIN:VEVENT
DTSTART:20260620T143000Z
DTEND:20260620T153000Z
LOCATION:Senevita Im Rebberg\, Schulhausstrasse 44\, 8704 Herrliberg
TRANSP:OPAQUE
SEQUENCE:0
UID:20756-veranstaltung@ref-herrliberg.ch
DTSTAMP:20251106T113040Z
DESCRIPTION:Ökumenischer Gottesdienst im Senevita \nGemeindeleiter
  Wolfgang Arnold\n\nKontakt: Wolfgang Arnold\, Tel. 079 956 17 01\n
 \nWeitere Infos: https://www.ref-herrliberg.ch/veranstaltung/20756
SUMMARY:Ökumenischer Gottesdienst im Senevita
PRIORITY:5
X-MICROSOFT-CDO-IMPORTANCE:1
CLASS:PUBLIC
END:VEVENT
END:VCALENDAR
