BEGIN:VCALENDAR
PRODID:-//kirchenweb.ch gmbh//veranstaltungsausgabe v2.0//DE
VERSION:2.0
METHOD:PUBLISH
BEGIN:VEVENT
DTSTART:20260715T083000Z
DTEND:20260715T093000Z
LOCATION:Senevita Im Rebberg\, Schulhausstrasse 44\, 8704 Herrliberg
TRANSP:OPAQUE
SEQUENCE:0
UID:20771-veranstaltung@ref-herrliberg.ch
DTSTAMP:20251106T113253Z
DESCRIPTION:Ökumenischer Gottesdienst im Senevita\nPfarrerin Marjoline
  Roth\n\nKontakt: Pfarrerin Marjoline Roth\, Tel. 079 391 00 65\n\nWeitere
  Infos: https://www.ref-herrliberg.ch/veranstaltung/20771
SUMMARY:Ökumenischer Gottesdienst im Senevita
PRIORITY:5
X-MICROSOFT-CDO-IMPORTANCE:1
CLASS:PUBLIC
END:VEVENT
END:VCALENDAR
