BEGIN:VCALENDAR
PRODID:-//kirchenweb.ch gmbh//veranstaltungsausgabe v2.0//DE
VERSION:2.0
METHOD:PUBLISH
BEGIN:VEVENT
DTSTART:20260611T053000Z
DTEND:20260611T063000Z
LOCATION:Abfahrt beim Feuerwehrgebäude\, \,
TRANSP:OPAQUE
SEQUENCE:0
UID:20874-veranstaltung@ref-herrliberg.ch
DTSTAMP:20251112T082013Z
DESCRIPTION:Führung des Pfahlbauten-Museums am Bodensee. Anschliessend
  Fahrt nach Meersburg zum Mittagessen. Rückfahrt über
  Konstanz/Kreuzlingen\, Salenstein\, Schloss Arenenberg.\nAbfahrt mit Car
  um 7.30 Uhr beim Feuerwehrgebäude\, 7.35 Uhr Busstation Rietli\nKosten:
  CHF 150.- alles inkl. Anmeldung bitte bis 31.3.2026 an Erika Hagmann.\n
 \nKontakt: Erika Hagmann\, Tel. 079 416 07 13\n\nWeitere Infos:
  https://www.ref-herrliberg.ch/veranstaltung/20874
SUMMARY:Seniorentreffen: Ausflug Pfahlbauten-Museum Unteruhldingen/D
PRIORITY:5
X-MICROSOFT-CDO-IMPORTANCE:1
CLASS:PUBLIC
END:VEVENT
END:VCALENDAR
