BEGIN:VCALENDAR
PRODID:-//kirchenweb.ch gmbh//veranstaltungsausgabe v2.0//DE
VERSION:2.0
METHOD:PUBLISH
BEGIN:VEVENT
DTSTART:20260702T060000Z
DTEND:20260702T070000Z
LOCATION:Abfahrt beim Feuerwehrgebäude\, \,
TRANSP:OPAQUE
SEQUENCE:0
UID:20875-veranstaltung@ref-herrliberg.ch
DTSTAMP:20251112T083447Z
DESCRIPTION:Führung durch das ehemalige Kloster\, Mittagessen und
  Erkundung der Gärten.\nAbfahrt mit Car um 8.00 Uhr beim
  Feuerwehrgebäude\, 8.05 Busstation Rietli\nKosten: CHF 120.- alles inkl.
  Anmeldung bitte bis 5.6.2026 an Hanspeter Konrad\n\nKontakt: Hanspeter
  Konrad\, Tel. 044 915 21 79\n\nWeitere Infos:
  https://www.ref-herrliberg.ch/veranstaltung/20875
SUMMARY:Seniorentreffen: Besuch der Kartause Ittingen
PRIORITY:5
X-MICROSOFT-CDO-IMPORTANCE:1
CLASS:PUBLIC
END:VEVENT
END:VCALENDAR
