BEGIN:VCALENDAR
PRODID:-//kirchenweb.ch gmbh//veranstaltungsausgabe v2.0//DE
VERSION:2.0
METHOD:PUBLISH
BEGIN:VEVENT
DTSTART:20260705T083000Z
DTEND:20260705T093000Z
LOCATION:Forstkorporations-Hütte Herrliberg\, \,
TRANSP:OPAQUE
SEQUENCE:0
UID:20881-veranstaltung@ref-herrliberg.ch
DTSTAMP:20260414T071304Z
DESCRIPTION:Fahrdienst zur Waldhütte:\nAbfahrt: 09:40 Uhr und 10:00 Uhr
  ab Drogerie\nRetour: 13:00 Uhr und 13:30 Uhr\n\nSonstiges\nWer mit dem
  Auto kommt\, wird auf dem Parkplatz Hüttenweg eingewiesen.\nBis zur
  Waldhütte sind es dann ca. 15 Minuten zu Fuss.\n\nKontakt:
  Gemeindeleiter Wolfgang Arnold\, 044 915 25 25 \nPfr. Alexander Heit\,
  044 915 28 14 \n\nWeitere Infos:
  https://www.ref-herrliberg.ch/veranstaltung/20881
SUMMARY:Ökumenischer Wald-Gottesdienst
PRIORITY:5
X-MICROSOFT-CDO-IMPORTANCE:1
CLASS:PUBLIC
END:VEVENT
END:VCALENDAR
