BEGIN:VCALENDAR
PRODID:-//kirchenweb.ch gmbh//veranstaltungsausgabe v2.0//DE
VERSION:2.0
METHOD:PUBLISH
BEGIN:VEVENT
DTSTART:20270529T080000Z
DTEND:20270529T110000Z
LOCATION:Kirchenhügel\, Kirchenrank 3\, 8704 Herrliberg
TRANSP:OPAQUE
SEQUENCE:0
UID:21184-veranstaltung@ref-herrliberg.ch
DTSTAMP:20260313T115313Z
DESCRIPTION:Kontakt: Susanne Schnitzler\, 079 773 05 00\, \n\nWeitere
  Infos: https://www.ref-herrliberg.ch/veranstaltung/21184
SUMMARY:Kolibri
PRIORITY:5
X-MICROSOFT-CDO-IMPORTANCE:1
CLASS:PUBLIC
END:VEVENT
END:VCALENDAR
