BEGIN:VCALENDAR
PRODID:-//kirchenweb.ch gmbh//veranstaltungsausgabe v2.0//DE
VERSION:2.0
METHOD:PUBLISH
BEGIN:VEVENT
DTSTART:20260508T170000Z
DTEND:20260508T193000Z
LOCATION:Kirchgemeindehaus Erlenbach\, Schulhausstrasse 40\, 8703
  Erlenbach
TRANSP:OPAQUE
SEQUENCE:0
UID:21237-veranstaltung@ref-herrliberg.ch
DTSTAMP:20260414T101531Z
DESCRIPTION:Wie funktioniert KI? Was sind die Möglichkeiten und Grenzen
  von KI? Was sind die Chancen und Risiken von KI für den einzelnen
  Menschen? Und für die Gesellschaft? Pfr. Anders Stokholm und
  Kirchenpflegepräsident René Schwarzenbach diskutieren Fragen rund um KI
  mit Nicole Kosel\, Religionspädagogin und Unternehmerin im Bereich KI
  Ausbildung in Stäfa\, und mit Peter Kirchschläger\, Professor für
  Theologische Ethik an der Universität Luzern und Mitglied des
  Kompetenzzentrums für Künstliche Intelligenz an der ETH Zürich. \n
 \nKontakt: Pfr. Alexander Heit\, 044 915 28 14 \n\nWeitere Infos:
  https://www.ref-herrliberg.ch/veranstaltung/21237
SUMMARY:Werte&Trends
PRIORITY:5
X-MICROSOFT-CDO-IMPORTANCE:1
CLASS:PUBLIC
END:VEVENT
END:VCALENDAR
