BEGIN:VCALENDAR
PRODID:-//kirchenweb.ch gmbh//veranstaltungsausgabe v2.0//DE
VERSION:2.0
METHOD:PUBLISH
BEGIN:VEVENT
DTSTART:20271212T160000Z
DTEND:20271212T170000Z
LOCATION:Kirche Tal Herrliberg\, Kirchenrank 1\, 8704 Herrliberg
TRANSP:OPAQUE
SEQUENCE:0
UID:21242-veranstaltung@ref-herrliberg.ch
DTSTAMP:20260331T073856Z
DESCRIPTION:mit Weihnachtsspiel\n\nKontakt: Pfrn. Claudia Steinemann\, 077
  265 76 42 \n\nWeitere Infos:
  https://www.ref-herrliberg.ch/veranstaltung/21242
SUMMARY:Familien-Gottesdienst
PRIORITY:5
X-MICROSOFT-CDO-IMPORTANCE:1
CLASS:PUBLIC
END:VEVENT
END:VCALENDAR
