BEGIN:VCALENDAR
PRODID:-//kirchenweb.ch gmbh//veranstaltungsausgabe v2.0//DE
VERSION:2.0
METHOD:PUBLISH
BEGIN:VEVENT
DTSTART:20270305T180000Z
DTEND:20270305T200000Z
LOCATION:Kath. Kirche Herrliberg\, Rennweg 35\, 8704 Herrliberg
TRANSP:OPAQUE
SEQUENCE:0
UID:21248-veranstaltung@ref-herrliberg.ch
DTSTAMP:20260402T112229Z
DESCRIPTION:100 Jahre Internationaler Weltgebetstag \nanschliessend Apéro
 \n\n\n\n\n\nKontakt: Katharina Wipf\, 044 915 04 54\n\nWeitere Infos:
  https://www.ref-herrliberg.ch/veranstaltung/21248
SUMMARY:Weltgebetstag
PRIORITY:5
X-MICROSOFT-CDO-IMPORTANCE:1
CLASS:PUBLIC
END:VEVENT
END:VCALENDAR
