BEGIN:VCALENDAR
PRODID:-//kirchenweb.ch gmbh//veranstaltungsausgabe v2.0//DE
VERSION:2.0
METHOD:PUBLISH
BEGIN:VEVENT
DTSTART:20260825T153000Z
DTEND:20260825T170000Z
LOCATION:Kirchgemeindehaus Erlenbach\, Schulhausstrasse 40\, 8703
  Erlenbach
TRANSP:OPAQUE
SEQUENCE:0
UID:21257-veranstaltung@ref-herrliberg.ch
DTSTAMP:20260408T084814Z
DESCRIPTION:Gemeinsamer Konfirmandenunterricht der Kirchgemeinden
  Erlenbach und Herrliberg\n\nAnschliessend: gemeinsames Grillieren mit den
  Eltern\n\nKontakt: Nicole Flückiger\, 079 808 90 11 \n\nWeitere Infos:
  https://www.ref-herrliberg.ch/veranstaltung/21257
SUMMARY:Konfirmandenunterricht
PRIORITY:5
X-MICROSOFT-CDO-IMPORTANCE:1
CLASS:PUBLIC
END:VEVENT
END:VCALENDAR
