BEGIN:VCALENDAR
PRODID:-//kirchenweb.ch gmbh//veranstaltungsausgabe v2.0//DE
VERSION:2.0
METHOD:PUBLISH
BEGIN:VEVENT
DTSTART:20270202T163000Z
DTEND:20270202T180000Z
LOCATION:Kirchgemeindehaus Erlenbach\, Schulhausstrasse 40\, 8703
  Erlenbach
TRANSP:OPAQUE
SEQUENCE:0
UID:21272-veranstaltung@ref-herrliberg.ch
DTSTAMP:20260410T074951Z
DESCRIPTION:Gemeinsamer Konfirmandenunterricht der Kirchgemeinden
  Erlenbach und Herrliberg\n\nAnschliessend: Gotte-/Götti-Abend\n
 \nKontakt: Nicole Flückiger\, 079 808 90 11 \n\nWeitere Infos:
  https://www.ref-herrliberg.ch/veranstaltung/21272
SUMMARY:Konfirmandenunterricht
PRIORITY:5
X-MICROSOFT-CDO-IMPORTANCE:1
CLASS:PUBLIC
END:VEVENT
END:VCALENDAR
