BEGIN:VCALENDAR
PRODID:-//kirchenweb.ch gmbh//veranstaltungsausgabe v2.0//DE
VERSION:2.0
METHOD:PUBLISH
BEGIN:VEVENT
DTSTART:20270601T153000Z
DTEND:20270601T170000Z
LOCATION:Kirchenhügel\, Kirchenrank 3\, 8704 Herrliberg
TRANSP:OPAQUE
SEQUENCE:0
UID:21281-veranstaltung@ref-herrliberg.ch
DTSTAMP:20260408T083448Z
DESCRIPTION:Vorbereitung Konfirmation\n\nKontakt: Nicole Flückiger\, 079
  808 90 11 \n\nWeitere Infos:
  https://www.ref-herrliberg.ch/veranstaltung/21281
SUMMARY:Konfirmandenunterricht Herrliberg
PRIORITY:5
X-MICROSOFT-CDO-IMPORTANCE:1
CLASS:PUBLIC
END:VEVENT
END:VCALENDAR
