BEGIN:VCALENDAR
PRODID:-//kirchenweb.ch gmbh//veranstaltungsausgabe v2.0//DE
VERSION:2.0
METHOD:PUBLISH
BEGIN:VEVENT
DTSTART:20270321T170000Z
DTEND:20270321T200000Z
LOCATION:Treffpunkt: Bahnhof Herrliberg-Feldmeilen bzw. Erlenbach\, \,
TRANSP:OPAQUE
SEQUENCE:0
UID:21284-veranstaltung@ref-herrliberg.ch
DTSTAMP:20260408T085905Z
DESCRIPTION:gemeinsamer Konfirmandenunterricht der Kirchgemeinden
  Erlenbach und Herrliberg\n\nKontakt: Nicole Flückiger\, 079 808 90 11 \n
 \nWeitere Infos: https://www.ref-herrliberg.ch/veranstaltung/21284
SUMMARY:Konfirmandenunterricht: Besuch ICF-Celebration
PRIORITY:5
X-MICROSOFT-CDO-IMPORTANCE:1
CLASS:PUBLIC
END:VEVENT
END:VCALENDAR
