BEGIN:VCALENDAR
PRODID:-//kirchenweb.ch gmbh//veranstaltungsausgabe v2.0//DE
VERSION:2.0
METHOD:PUBLISH
BEGIN:VEVENT
DTSTART:20270608T153000Z
DTEND:20270608T193000Z
LOCATION:tbd\, \,
TRANSP:OPAQUE
SEQUENCE:0
UID:21293-veranstaltung@ref-herrliberg.ch
DTSTAMP:20260408T121613Z
DESCRIPTION:Kontakt: Nicole Flückiger\, 079 808 90 11 \n\nWeitere Infos:
  https://www.ref-herrliberg.ch/veranstaltung/21293
SUMMARY:Konfirmandenunterricht Erlenbach und Herrliberg
PRIORITY:5
X-MICROSOFT-CDO-IMPORTANCE:1
CLASS:PUBLIC
END:VEVENT
END:VCALENDAR
