BEGIN:VCALENDAR
PRODID:-//kirchenweb.ch gmbh//veranstaltungsausgabe v2.0//DE
VERSION:2.0
METHOD:PUBLISH
BEGIN:VEVENT
DTSTART:20260520T130000Z
DTEND:20260520T143000Z
LOCATION:Senevita Im Rebberg\, Schulhausstrasse 44\, 8704 Herrliberg
TRANSP:OPAQUE
SEQUENCE:0
UID:21299-veranstaltung@ref-herrliberg.ch
DTSTAMP:20260409T071216Z
DESCRIPTION:mit Pfarrerin Marjoline Roth\n\nKontakt: Pfrn. Marjoline
  Roth\, 079 391 00 65 \n\nWeitere Infos:
  https://www.ref-herrliberg.ch/veranstaltung/21299
SUMMARY:Treff für Alleinstehende
PRIORITY:5
X-MICROSOFT-CDO-IMPORTANCE:1
CLASS:PUBLIC
END:VEVENT
END:VCALENDAR
