BEGIN:VCALENDAR
PRODID:-//kirchenweb.ch gmbh//veranstaltungsausgabe v2.0//DE
VERSION:2.0
METHOD:PUBLISH
BEGIN:VEVENT
DTSTART:20260904T153000Z
DTEND:20260904T163000Z
LOCATION:Ref. Kirche Erlenbach\, Seestrasse 86a\, 8703 Erlenbach
TRANSP:OPAQUE
SEQUENCE:0
UID:21307-veranstaltung@ref-herrliberg.ch
DTSTAMP:20260414T141707Z
DESCRIPTION:Mit anschliessendem Apéro. Die Eltern sind herzlich
  eingeladen. \n\nFür die 6. Klässler:innen ist dieser Gottesdienst
  obligatorisch!\n\n\nKontakt: Nicole Flückiger\, 079 808 90 11 \n
 \nWeitere Infos: https://www.ref-herrliberg.ch/veranstaltung/21307
SUMMARY:Jugendgottesdienst
PRIORITY:5
X-MICROSOFT-CDO-IMPORTANCE:1
CLASS:PUBLIC
END:VEVENT
END:VCALENDAR
