BEGIN:VCALENDAR
PRODID:-//kirchenweb.ch gmbh//veranstaltungsausgabe v2.0//DE
VERSION:2.0
METHOD:PUBLISH
BEGIN:VEVENT
DTSTART:20260918T153000Z
DTEND:20260918T163000Z
LOCATION:Kirche Tal Herrliberg\, Kirchenrank 1\, 8704 Herrliberg
TRANSP:OPAQUE
SEQUENCE:0
UID:21309-veranstaltung@ref-herrliberg.ch
DTSTAMP:20260414T135134Z
DESCRIPTION:Kontakt: Nicole Flückiger\, 079 808 90 11 \n\nWeitere Infos:
  https://www.ref-herrliberg.ch/veranstaltung/21309
SUMMARY:Jugendgottesdienst
PRIORITY:5
X-MICROSOFT-CDO-IMPORTANCE:1
CLASS:PUBLIC
END:VEVENT
END:VCALENDAR
