BEGIN:VCALENDAR
PRODID:-//kirchenweb.ch gmbh//veranstaltungsausgabe v2.0//DE
VERSION:2.0
METHOD:PUBLISH
BEGIN:VEVENT
DTSTART:20260905T071500Z
DTEND:20260905T110000Z
LOCATION:Treffpunkt: Bahnhof Herrliberg-Feldmeilen oder Erlenbach\, \,
TRANSP:OPAQUE
SEQUENCE:0
UID:21313-veranstaltung@ref-herrliberg.ch
DTSTAMP:20260415T075355Z
DESCRIPTION:Eine Führung in die Zürcher Reformation auf einem Rundweg
  durch die Stadt mit der Zwingli-Forscherin Judith Stutz\n\nWir besuchen
  wichtige Orte der Reformation und hören spannende Geschichten über
  Huldrych Zwingli und seine Mitstreiterinnen und Mitstreiter.\n\nKontakt:
  Nicole Flückiger\, 079 808 90 11 \n\nWeitere Infos:
  https://www.ref-herrliberg.ch/veranstaltung/21313
SUMMARY:Wahlmodul 2: Mit Bibel\, Hafermus und Schwert
PRIORITY:5
X-MICROSOFT-CDO-IMPORTANCE:1
CLASS:PUBLIC
END:VEVENT
END:VCALENDAR
