BEGIN:VCALENDAR
PRODID:-//kirchenweb.ch gmbh//veranstaltungsausgabe v2.0//DE
VERSION:2.0
METHOD:PUBLISH
BEGIN:VEVENT
DTSTART:20261023T144500Z
DTEND:20261023T190000Z
LOCATION:Treffpunkt: Bahnhof Herrliberg-Feldmeilen oder Erlenbach\, \,
TRANSP:OPAQUE
SEQUENCE:0
UID:21314-veranstaltung@ref-herrliberg.ch
DTSTAMP:20260415T075829Z
DESCRIPTION:Wie leben unsere Tiere im Zoo? Auf was muss bei einer
  artgerechten Haltung speziell geachtet werden?\n\nEine kleine Einführung
  in den Alltag eines Zoowärters\n\nKontakt: Nicole Flückiger\, 079 808
  90 11 \n\nWeitere Infos:
  https://www.ref-herrliberg.ch/veranstaltung/21314
SUMMARY:Wahlmodul 4: Zoo Rapperswil mit Apéro
PRIORITY:5
X-MICROSOFT-CDO-IMPORTANCE:1
CLASS:PUBLIC
END:VEVENT
END:VCALENDAR
