BEGIN:VCALENDAR
PRODID:-//kirchenweb.ch gmbh//veranstaltungsausgabe v2.0//DE
VERSION:2.0
METHOD:PUBLISH
BEGIN:VEVENT
DTSTART:20270127T130000Z
DTEND:20270127T160000Z
LOCATION:Martin Stiftung\, Erlenbach\, \,
TRANSP:OPAQUE
SEQUENCE:0
UID:21321-veranstaltung@ref-herrliberg.ch
DTSTAMP:20260415T082825Z
DESCRIPTION:Backen mit Bewohnerinnen und Bewohnern der Martin Stiftung\n
 \nMenschen die geistig beeinträchtigt sind\, leben bei uns in der Martin
  Stiftung\, genau zwischen Erlenbach und Herrliberg. Nur - kennen wir sie
  eigentlich? \nIn diesem Modul kannst du das ändern. An einem Nachmittag
  werden wir gemeinsam backen\,\nplaudern und Spiele spielen.\n\n\nKontakt:
  Nicole Flückiger\, 079 808 90 11 \n\nWeitere Infos:
  https://www.ref-herrliberg.ch/veranstaltung/21321
SUMMARY:Wahlmodul 9: Gemeinsam backen
PRIORITY:5
X-MICROSOFT-CDO-IMPORTANCE:1
CLASS:PUBLIC
END:VEVENT
END:VCALENDAR
