BEGIN:VCALENDAR
PRODID:-//kirchenweb.ch gmbh//veranstaltungsausgabe v2.0//DE
VERSION:2.0
METHOD:PUBLISH
BEGIN:VEVENT
DTSTART:20270317T123000Z
DTEND:20270317T163000Z
LOCATION:Treffpunkt: Kirchgemeindehaus Erlenbach\, Schulhausstrasse 40\,
  8703 Erlenbach
TRANSP:OPAQUE
SEQUENCE:0
UID:21322-veranstaltung@ref-herrliberg.ch
DTSTAMP:20260415T085150Z
DESCRIPTION:Der Pfuusbus steht beim Albisgüetli\, dorthin können
  Menschen gehen\, die kein Zuhause mehr haben. \nWir besichtigen den
  Pfuusbus in diesem Modul.\nWir gehen der Frage nach\, warum und wie ein
  Mensch obdachlos werden kann? Was ist für diese Menschen am
  schwierigsten?\n\n\nKontakt: Nicole Flückiger\, 079 808 90 11 \n
 \nWeitere Infos: https://www.ref-herrliberg.ch/veranstaltung/21322
SUMMARY:Wahlmodul 12: Wie leben Obdachlose in Zürich
PRIORITY:5
X-MICROSOFT-CDO-IMPORTANCE:1
CLASS:PUBLIC
END:VEVENT
END:VCALENDAR
