BEGIN:VCALENDAR
PRODID:-//kirchenweb.ch gmbh//veranstaltungsausgabe v2.0//DE
VERSION:2.0
METHOD:PUBLISH
BEGIN:VEVENT
DTSTART:20270407T113000Z
DTEND:20270407T150000Z
LOCATION:Treffpunkt: Kirchgemeindehaus Erlenbach\, Schulhausstrasse 40\,
  8703 Erlenbach
TRANSP:OPAQUE
SEQUENCE:0
UID:21323-veranstaltung@ref-herrliberg.ch
DTSTAMP:20260415T085427Z
DESCRIPTION:In diesem Modul werden wir mehr über den jüdischen Glauben
  erfahren und verschiedene Bräuche und Rituale kennenlernen.\n\nKontakt:
  Nicole Flückiger\, 079 808 90 11 \n\nWeitere Infos:
  https://www.ref-herrliberg.ch/veranstaltung/21323
SUMMARY:Wahlmodul 13: Besuch einer Synagoge
PRIORITY:5
X-MICROSOFT-CDO-IMPORTANCE:1
CLASS:PUBLIC
END:VEVENT
END:VCALENDAR
