BEGIN:VCALENDAR
PRODID:-//kirchenweb.ch gmbh//veranstaltungsausgabe v2.0//DE
VERSION:2.0
METHOD:PUBLISH
BEGIN:VEVENT
DTSTART:20270427T070000Z
DTEND:20270427T140000Z
LOCATION:Kirchgemeindehaus Erlenbach\, Schulhausstrasse 40\, 8703
  Erlenbach
TRANSP:OPAQUE
SEQUENCE:0
UID:21324-veranstaltung@ref-herrliberg.ch
DTSTAMP:20260415T085645Z
DESCRIPTION:Hast du Interesse\, uns als LeiterIn im Frühlingslager zu
  begleiten? \n\nWenn du gerne Kinder hast und uns bei Spiel und Spass\,
  Ausflügen etc. begleiten möchtest bist du genau richtig bei uns. Wir
  freuen uns auf dich!\n\nKontakt: Annette Frei\, 079 404 76 39\, \n
 \nWeitere Infos: https://www.ref-herrliberg.ch/veranstaltung/21324
SUMMARY:Wahlmodul 14: Frühlingslager 2027
PRIORITY:5
X-MICROSOFT-CDO-IMPORTANCE:1
CLASS:PUBLIC
END:VEVENT
END:VCALENDAR
