BEGIN:VCALENDAR
PRODID:-//kirchenweb.ch gmbh//veranstaltungsausgabe v2.0//DE
VERSION:2.0
METHOD:PUBLISH
BEGIN:VEVENT
DTSTART:20270508T220100Z
DTEND:20270509T080000Z
LOCATION:Kirche Tal Herrliberg\, Kirchenrank 1\, 8704 Herrliberg
TRANSP:OPAQUE
SEQUENCE:0
UID:21328-veranstaltung@ref-herrliberg.ch
DTSTAMP:20260415T090038Z
DESCRIPTION:Habt ihr schon einmal in der Kirche übernachtet? \n\nWir
  probieren es aus! Gemeinsam essen wir Znacht und erkunden dann\,
  angeleitet vom Cevi Herrliberg-Erlenbach\, die Umgebung der Kirche. Nach
  einer (hoffentlich!) erholsamen Nacht und einem Zmorge im Kirchenhügel
  treffen wir auf eure Familien und feiern mit ihnen im
  Finissage-Gottesdienst am 09. Mai 2027 den Abschluss eurer JuKi-Zeit.\n\n
 \nKontakt: Pfrn. Claudia Steinemann\, 077 265 76 42 \n\nWeitere Infos:
  https://www.ref-herrliberg.ch/veranstaltung/21328
SUMMARY:Abschlussmodul für die 7. Klasse
PRIORITY:5
X-MICROSOFT-CDO-IMPORTANCE:1
CLASS:PUBLIC
END:VEVENT
END:VCALENDAR
