BEGIN:VCALENDAR
PRODID:-//kirchenweb.ch gmbh//veranstaltungsausgabe v2.0//DE
VERSION:2.0
METHOD:PUBLISH
BEGIN:VEVENT
DTSTART:20260528T170000Z
DTEND:20260528T200000Z
LOCATION:Kirchenhügel\, \,
TRANSP:OPAQUE
SEQUENCE:0
UID:21424-veranstaltung@ref-herrliberg.ch
DTSTAMP:20260416T181309Z
DESCRIPTION:Kontakt: alberto.gaspardo@ref-herrliberg.ch\n\nWeitere Infos:
  https://www.ref-herrliberg.ch/veranstaltung/21424
SUMMARY:Orgelkommission
PRIORITY:5
X-MICROSOFT-CDO-IMPORTANCE:1
CLASS:PUBLIC
END:VEVENT
END:VCALENDAR
